BEGIN:VCALENDAR
VERSION:2.0
PRODID:-//hacksw/handcal//NONSGML v1.0//EN
BEGIN:VEVENT
SUMMARY:Challenge Omnisports
UID:f3b108a4-6a90-4419-aa23-ab1b11cf78de
DTSTART:20260306T090000Z
DTEND:20260306T153000Z
LOCATION:Localisation Stade de ma ville 72000 LE MANS
CATEGORIES:Sportif
STATUS:
DESCRIPTION:<p>Le challenge Omnisports organise par le club debutera
 sur le grand stade de la ville.<br>Les prix seront remis en
 soiree.</p>
URL;VALUE=URI:https://judo-club-vitryat.sportsregions.fr/evenements/2026/03/06/challenge-omnisports-2424396
END:VEVENT
END:VCALENDAR
